BEGIN:VCALENDAR
VERSION:2.0
PRODID:icalendar-ruby
CALSCALE:GREGORIAN
METHOD:PUBLISH
BEGIN:VEVENT
DTSTAMP:20260421T153326Z
UID:100-267254@oceanspringsumc.org
DTSTART:20260503T150000Z
DTEND:20260503T160000Z
CLASS:PUBLIC
CREATED:20260415T124408
DESCRIPTION:We currently have 3 classes: 2 small groups that meet for adult
 s and 1 for children ages 4 and up. Classes begin at 10 and parent's can b
 ring their children to the children's class as early as 9:45. \nIf you al
 so have children under the age of 5 and would like to attend one of the ad
 ult classes\, the nursery/toddler room is available for your little one(s)
 . You can bring them in as early as 9:45 and it is available through the m
 orning worship service as well. \nWe look forward to seeing you!
LAST-MODIFIED:20260415T124408
LOCATION:Worship Building and Life Center
SUMMARY:Small Groups
URL;VALUE=URI:https://oceanspringsumc.org/events/small-groups--100/2026-05-
 03
ATTACH;FILENAME=IMG_4658.jpg;FMTTYPE=image/jpeg:https://dq5pwpg1q8ru0.cloud
 front.net/2026/02/18/15/32/25/fc87e3e2-22ba-4d53-ae69-00b2436b09e3/IMG_465
 8.jpg
END:VEVENT
END:VCALENDAR
