BEGIN:VCALENDAR
VERSION:2.0
PRODID:icalendar-ruby
CALSCALE:GREGORIAN
METHOD:PUBLISH
BEGIN:VEVENT
DTSTAMP:20260420T134914Z
UID:113-267243@oceanspringsumc.org
DTSTART:20260421T153000Z
DTEND:20260422T043000Z
CLASS:PUBLIC
CREATED:20260415T124112
DESCRIPTION:The ladies of Joy Circle will meet on Tuesday\, April 21\, at 1
 0:30 AM in the Life Center. Join us for a wonderful time of fellowship as 
 we make final plans for the Home of Grace ladies visit on April 26.
LAST-MODIFIED:20260415T124112
LOCATION:Life Center
SUMMARY:Joy Circle
URL;VALUE=URI:https://oceanspringsumc.org/events/joy-circle--113/2026-04-21
ATTACH;FILENAME=Joy-Circle.jpeg;FMTTYPE=image/jpeg:https://dq5pwpg1q8ru0.cl
 oudfront.net/2026/04/15/17/41/12/88ef82b7-b7e2-4005-90d7-aa95a53246da/Joy-
 Circle.jpeg
END:VEVENT
END:VCALENDAR
